BEGIN:VCALENDAR
VERSION:2.0
PRODID:-//Town of Fletcher, North Carolina - ECPv6.15.17.1//NONSGML v1.0//EN
CALSCALE:GREGORIAN
METHOD:PUBLISH
X-ORIGINAL-URL:https://www.fletchernc.org
X-WR-CALDESC:Events for Town of Fletcher, North Carolina
REFRESH-INTERVAL;VALUE=DURATION:PT1H
X-Robots-Tag:noindex
X-PUBLISHED-TTL:PT1H
BEGIN:VTIMEZONE
TZID:America/New_York
BEGIN:DAYLIGHT
TZOFFSETFROM:-0500
TZOFFSETTO:-0400
TZNAME:EDT
DTSTART:20220313T070000
END:DAYLIGHT
BEGIN:STANDARD
TZOFFSETFROM:-0400
TZOFFSETTO:-0500
TZNAME:EST
DTSTART:20221106T060000
END:STANDARD
BEGIN:DAYLIGHT
TZOFFSETFROM:-0500
TZOFFSETTO:-0400
TZNAME:EDT
DTSTART:20230312T070000
END:DAYLIGHT
BEGIN:STANDARD
TZOFFSETFROM:-0400
TZOFFSETTO:-0500
TZNAME:EST
DTSTART:20231105T060000
END:STANDARD
BEGIN:DAYLIGHT
TZOFFSETFROM:-0500
TZOFFSETTO:-0400
TZNAME:EDT
DTSTART:20240310T070000
END:DAYLIGHT
BEGIN:STANDARD
TZOFFSETFROM:-0400
TZOFFSETTO:-0500
TZNAME:EST
DTSTART:20241103T060000
END:STANDARD
END:VTIMEZONE
BEGIN:VEVENT
DTSTART;TZID=America/New_York:20230103T180000
DTEND;TZID=America/New_York:20230103T200000
DTSTAMP:20260420T211407
CREATED:20221122T165647Z
LAST-MODIFIED:20221122T165647Z
UID:6352-1672768800-1672776000@www.fletchernc.org
SUMMARY:Town Council Agenda Meeting
DESCRIPTION:Town Council will hold an agenda workshop meeting on Tuesday\, January 3 at 6:00 p.m.  The meeting will be held in the multipurpose room at Fletcher Town Hall.  Click on Town Government to access the agenda.
URL:https://www.fletchernc.org/event/town-council-agenda-meeting-60/
LOCATION:Fletcher Town Hall\, 300 Old Cane Creek Rd.\, Fletcher\, NC\, 28732\, United States
END:VEVENT
BEGIN:VEVENT
DTSTART;TZID=America/New_York:20230109T180000
DTEND;TZID=America/New_York:20230109T200000
DTSTAMP:20260420T211407
CREATED:20221122T163917Z
LAST-MODIFIED:20221122T163917Z
UID:6328-1673287200-1673294400@www.fletchernc.org
SUMMARY:Town Council Regular Meeting
DESCRIPTION:Town Council will hold its regular meeting on Monday\, January 9 at 6:00 p.m.  The meeting will be held in Council Chambers at Fletcher Town Hall.  Click on Town Government to access the agenda.
URL:https://www.fletchernc.org/event/town-council-regular-meeting-66/
LOCATION:Fletcher Town Hall\, 300 Old Cane Creek Rd.\, Fletcher\, NC\, 28732\, United States
END:VEVENT
BEGIN:VEVENT
DTSTART;TZID=America/New_York:20230112T180000
DTEND;TZID=America/New_York:20230112T190000
DTSTAMP:20260420T211407
CREATED:20221130T161020Z
LAST-MODIFIED:20221130T162536Z
UID:6411-1673546400-1673550000@www.fletchernc.org
SUMMARY:P&R Advisory Board Meeting
DESCRIPTION:The Parks and Recreation Advisory Board will meet on Thursday\, January 12 at 6 pm in the multi-purpose room at Town Hall.  For more information on the meeting please contact Greg Walker\, Parks and Recreation Director at 828-687-3985.
URL:https://www.fletchernc.org/event/pr-advisory-board/
LOCATION:Fletcher Town Hall\, 300 Old Cane Creek Rd.\, Fletcher\, NC\, 28732\, United States
END:VEVENT
BEGIN:VEVENT
DTSTART;TZID=America/New_York:20230117T180000
DTEND;TZID=America/New_York:20230117T200000
DTSTAMP:20260420T211407
CREATED:20221123T143801Z
LAST-MODIFIED:20221123T143801Z
UID:6379-1673978400-1673985600@www.fletchernc.org
SUMMARY:Planning Board Meeting
DESCRIPTION:A regular meeting of the Town of Fletcher Planning Board will be held in Council Chambers at 6:00 p.m.
URL:https://www.fletchernc.org/event/planning-board-meeting-7/
LOCATION:Fletcher Town Hall\, 300 Old Cane Creek Rd.\, Fletcher\, NC\, 28732\, United States
END:VEVENT
END:VCALENDAR