BEGIN:VCALENDAR
VERSION:2.0
PRODID:-//Town of Fletcher, North Carolina - ECPv6.15.17.1//NONSGML v1.0//EN
CALSCALE:GREGORIAN
METHOD:PUBLISH
X-WR-CALNAME:Town of Fletcher, North Carolina
X-ORIGINAL-URL:https://www.fletchernc.org
X-WR-CALDESC:Events for Town of Fletcher, North Carolina
REFRESH-INTERVAL;VALUE=DURATION:PT1H
X-Robots-Tag:noindex
X-PUBLISHED-TTL:PT1H
BEGIN:VTIMEZONE
TZID:America/New_York
BEGIN:DAYLIGHT
TZOFFSETFROM:-0500
TZOFFSETTO:-0400
TZNAME:EDT
DTSTART:20210314T070000
END:DAYLIGHT
BEGIN:STANDARD
TZOFFSETFROM:-0400
TZOFFSETTO:-0500
TZNAME:EST
DTSTART:20211107T060000
END:STANDARD
BEGIN:DAYLIGHT
TZOFFSETFROM:-0500
TZOFFSETTO:-0400
TZNAME:EDT
DTSTART:20220313T070000
END:DAYLIGHT
BEGIN:STANDARD
TZOFFSETFROM:-0400
TZOFFSETTO:-0500
TZNAME:EST
DTSTART:20221106T060000
END:STANDARD
BEGIN:DAYLIGHT
TZOFFSETFROM:-0500
TZOFFSETTO:-0400
TZNAME:EDT
DTSTART:20230312T070000
END:DAYLIGHT
BEGIN:STANDARD
TZOFFSETFROM:-0400
TZOFFSETTO:-0500
TZNAME:EST
DTSTART:20231105T060000
END:STANDARD
END:VTIMEZONE
BEGIN:VEVENT
DTSTART;TZID=America/New_York:20221203T130000
DTEND;TZID=America/New_York:20221203T170000
DTSTAMP:20260420T192900
CREATED:20221121T164133Z
LAST-MODIFIED:20221121T164133Z
UID:6322-1670072400-1670086800@www.fletchernc.org
SUMMARY:Christmas in the Park Event
DESCRIPTION:
URL:https://www.fletchernc.org/event/christmas-in-the-park-event/
LOCATION:Bill Moore Community Park\, 85 Howard Gap Rd.\, Fletcher\, 28732\, United States
CATEGORIES:Parks and Recreation
ATTACH;FMTTYPE=image/jpeg:https://www.fletchernc.org/wp-content/uploads/2022/11/Screenshot-2022-11-21-113818.jpg
END:VEVENT
BEGIN:VEVENT
DTSTART;TZID=America/New_York:20221205T180000
DTEND;TZID=America/New_York:20221205T200000
DTSTAMP:20260420T192900
CREATED:20211118T190042Z
LAST-MODIFIED:20211118T190042Z
UID:5719-1670263200-1670270400@www.fletchernc.org
SUMMARY:Town Council Agenda Meeting
DESCRIPTION:Town Council will hold an agenda workshop meeting on Monday\, December 5 at 6:00 p.m.  The meeting will be held in Council Chambers at Fletcher Town Hall.  Click on Town Government to access the agenda.
URL:https://www.fletchernc.org/event/town-council-agenda-meeting-57/
END:VEVENT
BEGIN:VEVENT
DTSTART;TZID=America/New_York:20221212T180000
DTEND;TZID=America/New_York:20221212T200000
DTSTAMP:20260420T192900
CREATED:20211118T185424Z
LAST-MODIFIED:20211118T185424Z
UID:5700-1670868000-1670875200@www.fletchernc.org
SUMMARY:Town Council Regular Meeting
DESCRIPTION:Town Council will hold their regular meeting on Monday\, December 12 at 6:00 p.m.  The meeting will be held in Council Chambers at Fletcher Town Hall.  Click on Town Government to access the agenda.
URL:https://www.fletchernc.org/event/town-council-regular-meeting-64/
END:VEVENT
END:VCALENDAR