BEGIN:VCALENDAR
VERSION:2.0
PRODID:-//Town of Fletcher, North Carolina - ECPv6.15.17.1//NONSGML v1.0//EN
CALSCALE:GREGORIAN
METHOD:PUBLISH
X-ORIGINAL-URL:https://www.fletchernc.org
X-WR-CALDESC:Events for Town of Fletcher, North Carolina
REFRESH-INTERVAL;VALUE=DURATION:PT1H
X-Robots-Tag:noindex
X-PUBLISHED-TTL:PT1H
BEGIN:VTIMEZONE
TZID:America/New_York
BEGIN:DAYLIGHT
TZOFFSETFROM:-0500
TZOFFSETTO:-0400
TZNAME:EDT
DTSTART:20210314T070000
END:DAYLIGHT
BEGIN:STANDARD
TZOFFSETFROM:-0400
TZOFFSETTO:-0500
TZNAME:EST
DTSTART:20211107T060000
END:STANDARD
BEGIN:DAYLIGHT
TZOFFSETFROM:-0500
TZOFFSETTO:-0400
TZNAME:EDT
DTSTART:20220313T070000
END:DAYLIGHT
BEGIN:STANDARD
TZOFFSETFROM:-0400
TZOFFSETTO:-0500
TZNAME:EST
DTSTART:20221106T060000
END:STANDARD
BEGIN:DAYLIGHT
TZOFFSETFROM:-0500
TZOFFSETTO:-0400
TZNAME:EDT
DTSTART:20230312T070000
END:DAYLIGHT
BEGIN:STANDARD
TZOFFSETFROM:-0400
TZOFFSETTO:-0500
TZNAME:EST
DTSTART:20231105T060000
END:STANDARD
END:VTIMEZONE
BEGIN:VEVENT
DTSTART;TZID=America/New_York:20221107T180000
DTEND;TZID=America/New_York:20221107T200000
DTSTAMP:20260420T180239
CREATED:20221017T122312Z
LAST-MODIFIED:20221017T123800Z
UID:6245-1667844000-1667851200@www.fletchernc.org
SUMMARY:Town Council Agenda Meeting
DESCRIPTION:Town Council will hold an agenda workshop meeting on Monday\, November 7 at 6:00 p.m.  The meeting will be held in the multipurpose room at Fletcher Town Hall.  Click on Town Government to access the agenda.
URL:https://www.fletchernc.org/event/town-council-agenda-meeting-59/
LOCATION:Fletcher Town Hall\, 300 Old Cane Creek Rd.\, Fletcher\, NC\, 28732\, United States
END:VEVENT
BEGIN:VEVENT
DTSTART;TZID=America/New_York:20221114T180000
DTEND;TZID=America/New_York:20221114T200000
DTSTAMP:20260420T180239
CREATED:20211118T185348Z
LAST-MODIFIED:20221017T122201Z
UID:5698-1668448800-1668456000@www.fletchernc.org
SUMMARY:Town Council Regular Meeting
DESCRIPTION:Town Council will hold its regular meeting on Monday\, November 14 at 6:00 p.m.  The meeting will be held in Council Chambers at Fletcher Town Hall.  Click on Town Government to access the agenda.
URL:https://www.fletchernc.org/event/town-council-combined-agenda-regular-meeting-3/
END:VEVENT
BEGIN:VEVENT
DTSTART;TZID=America/New_York:20221115T180000
DTEND;TZID=America/New_York:20221115T200000
DTSTAMP:20260420T180239
CREATED:20211116T192027Z
LAST-MODIFIED:20211116T192039Z
UID:5668-1668535200-1668542400@www.fletchernc.org
SUMMARY:Planning Board Meeting
DESCRIPTION:A regular meeting of the Town of Fletcher Planning Board will be held in Council Chambers at 6:00 p.m.
URL:https://www.fletchernc.org/event/planning-board-meeting-14/
LOCATION:Fletcher Town Hall\, 300 Old Cane Creek Rd.\, Fletcher\, NC\, 28732\, United States
CATEGORIES:Planning Board
END:VEVENT
END:VCALENDAR