BEGIN:VCALENDAR
VERSION:2.0
PRODID:-//Town of Fletcher, North Carolina - ECPv6.15.17.1//NONSGML v1.0//EN
CALSCALE:GREGORIAN
METHOD:PUBLISH
X-WR-CALNAME:Town of Fletcher, North Carolina
X-ORIGINAL-URL:https://www.fletchernc.org
X-WR-CALDESC:Events for Town of Fletcher, North Carolina
REFRESH-INTERVAL;VALUE=DURATION:PT1H
X-Robots-Tag:noindex
X-PUBLISHED-TTL:PT1H
BEGIN:VTIMEZONE
TZID:America/New_York
BEGIN:DAYLIGHT
TZOFFSETFROM:-0500
TZOFFSETTO:-0400
TZNAME:EDT
DTSTART:20210314T070000
END:DAYLIGHT
BEGIN:STANDARD
TZOFFSETFROM:-0400
TZOFFSETTO:-0500
TZNAME:EST
DTSTART:20211107T060000
END:STANDARD
BEGIN:DAYLIGHT
TZOFFSETFROM:-0500
TZOFFSETTO:-0400
TZNAME:EDT
DTSTART:20220313T070000
END:DAYLIGHT
BEGIN:STANDARD
TZOFFSETFROM:-0400
TZOFFSETTO:-0500
TZNAME:EST
DTSTART:20221106T060000
END:STANDARD
BEGIN:DAYLIGHT
TZOFFSETFROM:-0500
TZOFFSETTO:-0400
TZNAME:EDT
DTSTART:20230312T070000
END:DAYLIGHT
BEGIN:STANDARD
TZOFFSETFROM:-0400
TZOFFSETTO:-0500
TZNAME:EST
DTSTART:20231105T060000
END:STANDARD
END:VTIMEZONE
BEGIN:VEVENT
DTSTART;TZID=America/New_York:20220906T180000
DTEND;TZID=America/New_York:20220906T200000
DTSTAMP:20260420T142240
CREATED:20211118T185929Z
LAST-MODIFIED:20211118T185929Z
UID:5715-1662487200-1662494400@www.fletchernc.org
SUMMARY:Town Council Agenda Meeting
DESCRIPTION:Town Council will hold an agenda workshop meeting on Tuesday\, September 6 at 6:00 p.m.  The meeting will be held in Council Chambers at Fletcher Town Hall.  Click on Town Government to access the agenda.
URL:https://www.fletchernc.org/event/town-council-agenda-meeting-55/
END:VEVENT
BEGIN:VEVENT
DTSTART;TZID=America/New_York:20220912T180000
DTEND;TZID=America/New_York:20220912T200000
DTSTAMP:20260420T142240
CREATED:20211118T185158Z
LAST-MODIFIED:20211118T185158Z
UID:5694-1663005600-1663012800@www.fletchernc.org
SUMMARY:Town Council Regular Meeting
DESCRIPTION:Town Council will hold their regular meeting on Monday\, September 12 at 6:00 p.m.  The meeting will be held in Council Chambers at Fletcher Town Hall.  Click on Town Government to access the agenda.
URL:https://www.fletchernc.org/event/town-council-regular-meeting-62/
END:VEVENT
BEGIN:VEVENT
DTSTART;TZID=America/New_York:20220924T170000
DTEND;TZID=America/New_York:20220924T200000
DTSTAMP:20260420T142240
CREATED:20220906T203746Z
LAST-MODIFIED:20220906T203814Z
UID:6188-1664038800-1664049600@www.fletchernc.org
SUMMARY:Fletcher Family Festival
DESCRIPTION:
URL:https://www.fletchernc.org/event/fletcher-family-festival-3/
LOCATION:Bill Moore Community Park\, 85 Howard Gap Rd.\, Fletcher\, 28732\, United States
CATEGORIES:Fall Events,Parks and Recreation
END:VEVENT
END:VCALENDAR