BEGIN:VCALENDAR
VERSION:2.0
PRODID:-//Town of Fletcher, North Carolina - ECPv6.15.17.1//NONSGML v1.0//EN
CALSCALE:GREGORIAN
METHOD:PUBLISH
X-WR-CALNAME:Town of Fletcher, North Carolina
X-ORIGINAL-URL:https://www.fletchernc.org
X-WR-CALDESC:Events for Town of Fletcher, North Carolina
REFRESH-INTERVAL;VALUE=DURATION:PT1H
X-Robots-Tag:noindex
X-PUBLISHED-TTL:PT1H
BEGIN:VTIMEZONE
TZID:America/New_York
BEGIN:DAYLIGHT
TZOFFSETFROM:-0500
TZOFFSETTO:-0400
TZNAME:EDT
DTSTART:20210314T070000
END:DAYLIGHT
BEGIN:STANDARD
TZOFFSETFROM:-0400
TZOFFSETTO:-0500
TZNAME:EST
DTSTART:20211107T060000
END:STANDARD
BEGIN:DAYLIGHT
TZOFFSETFROM:-0500
TZOFFSETTO:-0400
TZNAME:EDT
DTSTART:20220313T070000
END:DAYLIGHT
BEGIN:STANDARD
TZOFFSETFROM:-0400
TZOFFSETTO:-0500
TZNAME:EST
DTSTART:20221106T060000
END:STANDARD
BEGIN:DAYLIGHT
TZOFFSETFROM:-0500
TZOFFSETTO:-0400
TZNAME:EDT
DTSTART:20230312T070000
END:DAYLIGHT
BEGIN:STANDARD
TZOFFSETFROM:-0400
TZOFFSETTO:-0500
TZNAME:EST
DTSTART:20231105T060000
END:STANDARD
END:VTIMEZONE
BEGIN:VEVENT
DTSTART;TZID=America/New_York:20220502T180000
DTEND;TZID=America/New_York:20220502T200000
DTSTAMP:20260420T064000
CREATED:20211118T185645Z
LAST-MODIFIED:20211118T185645Z
UID:5706-1651514400-1651521600@www.fletchernc.org
SUMMARY:Town Council Agenda Meeting
DESCRIPTION:Town Council will hold an agenda workshop meeting on Monday\, May 2 at 6:00 p.m.  The meeting will be held in Council Chambers at Fletcher Town Hall.  Click on Town Government to access the agenda.
URL:https://www.fletchernc.org/event/town-council-agenda-meeting-51/
END:VEVENT
BEGIN:VEVENT
DTSTART;TZID=America/New_York:20220509T180000
DTEND;TZID=America/New_York:20220509T200000
DTSTAMP:20260420T064000
CREATED:20211118T184908Z
LAST-MODIFIED:20211118T184908Z
UID:5686-1652119200-1652126400@www.fletchernc.org
SUMMARY:Town Council Regular Meeting
DESCRIPTION:Town Council will hold their regular meeting on Monday\, May 9 at 6:00 p.m.  The meeting will be held in Council Chambers at Fletcher Town Hall.  Click on Town Government to access the agenda.
URL:https://www.fletchernc.org/event/town-council-regular-meeting-58/
END:VEVENT
BEGIN:VEVENT
DTSTART;TZID=America/New_York:20220514T100000
DTEND;TZID=America/New_York:20220514T110000
DTSTAMP:20260420T064000
CREATED:20220428T155909Z
LAST-MODIFIED:20220428T155925Z
UID:6013-1652522400-1652526000@www.fletchernc.org
SUMMARY:Rain Barrel Workshop
DESCRIPTION:HELP CONSERVE OUR WATER RESOURCES!\nDid you know that rain barrels are a great way to conserve water for your garden? They also cut down on your monthly water expenses\, and reduce the amount of stormwater runoff that goes into the French Broad River. When you install a rain barrel\, you’re conserving valuable water resources and supporting RiverLink’s mission to promote the ecological vitality of the French Broad River. \nRiverLink is partnering with Land of Sky Regional Council to offer this rain barrel workshop for Fletcher residents. Register today to receive a 55 gallon barrel\, rain barrel kit\, and installation instructions for $25. Registration closes May 6th\, or when supplies run out!  To register\, please use this link: https://riverlink.org/events/fletcher-rain-barrel-workshop/ \nThe workshop will take place at Bill Moore Community Park on Saturday\, May 14 from 10 am- 11 am.
URL:https://www.fletchernc.org/event/rain-barrel-workshop/
LOCATION:Bill Moore Community Park\, 85 Howard Gap Rd.\, Fletcher\, 28732\, United States
ATTACH;FMTTYPE=image/jpeg:https://www.fletchernc.org/wp-content/uploads/2022/04/stormwater-rain-barrel.jpg
END:VEVENT
BEGIN:VEVENT
DTSTART;TZID=America/New_York:20220517T180000
DTEND;TZID=America/New_York:20220517T200000
DTSTAMP:20260420T064000
CREATED:20211116T191645Z
LAST-MODIFIED:20211116T191645Z
UID:5656-1652810400-1652817600@www.fletchernc.org
SUMMARY:Planning Board Meeting
DESCRIPTION:A regular meeting of the Town of Fletcher Planning Board will be held in Council Chambers at 6:00 p.m.
URL:https://www.fletchernc.org/event/planning-board-meeting-8/
LOCATION:Fletcher Town Hall\, 300 Old Cane Creek Rd.\, Fletcher\, NC\, 28732\, United States
CATEGORIES:Planning Board
END:VEVENT
END:VCALENDAR