BEGIN:VCALENDAR
VERSION:2.0
PRODID:-//Town of Fletcher, North Carolina - ECPv6.15.17.1//NONSGML v1.0//EN
CALSCALE:GREGORIAN
METHOD:PUBLISH
X-WR-CALNAME:Town of Fletcher, North Carolina
X-ORIGINAL-URL:https://www.fletchernc.org
X-WR-CALDESC:Events for Town of Fletcher, North Carolina
REFRESH-INTERVAL;VALUE=DURATION:PT1H
X-Robots-Tag:noindex
X-PUBLISHED-TTL:PT1H
BEGIN:VTIMEZONE
TZID:America/New_York
BEGIN:DAYLIGHT
TZOFFSETFROM:-0500
TZOFFSETTO:-0400
TZNAME:EDT
DTSTART:20170312T070000
END:DAYLIGHT
BEGIN:STANDARD
TZOFFSETFROM:-0400
TZOFFSETTO:-0500
TZNAME:EST
DTSTART:20171105T060000
END:STANDARD
BEGIN:DAYLIGHT
TZOFFSETFROM:-0500
TZOFFSETTO:-0400
TZNAME:EDT
DTSTART:20180311T070000
END:DAYLIGHT
BEGIN:STANDARD
TZOFFSETFROM:-0400
TZOFFSETTO:-0500
TZNAME:EST
DTSTART:20181104T060000
END:STANDARD
BEGIN:DAYLIGHT
TZOFFSETFROM:-0500
TZOFFSETTO:-0400
TZNAME:EDT
DTSTART:20190310T070000
END:DAYLIGHT
BEGIN:STANDARD
TZOFFSETFROM:-0400
TZOFFSETTO:-0500
TZNAME:EST
DTSTART:20191103T060000
END:STANDARD
BEGIN:DAYLIGHT
TZOFFSETFROM:-0500
TZOFFSETTO:-0400
TZNAME:EDT
DTSTART:20200308T070000
END:DAYLIGHT
BEGIN:STANDARD
TZOFFSETFROM:-0400
TZOFFSETTO:-0500
TZNAME:EST
DTSTART:20201101T060000
END:STANDARD
BEGIN:DAYLIGHT
TZOFFSETFROM:-0500
TZOFFSETTO:-0400
TZNAME:EDT
DTSTART:20210314T070000
END:DAYLIGHT
BEGIN:STANDARD
TZOFFSETFROM:-0400
TZOFFSETTO:-0500
TZNAME:EST
DTSTART:20211107T060000
END:STANDARD
BEGIN:DAYLIGHT
TZOFFSETFROM:-0500
TZOFFSETTO:-0400
TZNAME:EDT
DTSTART:20220313T070000
END:DAYLIGHT
BEGIN:STANDARD
TZOFFSETFROM:-0400
TZOFFSETTO:-0500
TZNAME:EST
DTSTART:20221106T060000
END:STANDARD
END:VTIMEZONE
BEGIN:VEVENT
DTSTART;TZID=America/New_York:20210405T180000
DTEND;TZID=America/New_York:20210405T190000
DTSTAMP:20260420T123801
CREATED:20201123T154352Z
LAST-MODIFIED:20201123T154352Z
UID:4941-1617645600-1617649200@www.fletchernc.org
SUMMARY:Town Council Agenda Meeting
DESCRIPTION:Town Council will hold an agenda workshop meeting on Monday\, April 5 at 6:00 p.m.  The meeting will be held in Council Chambers at Fletcher Town Hall.  Click on Town Government to access the agenda.
URL:https://www.fletchernc.org/event/town-council-agenda-meeting-44/
LOCATION:Fletcher Town Hall\, 300 Old Cane Creek Rd.\, Fletcher\, NC\, 28732\, United States
CATEGORIES:Administration
END:VEVENT
BEGIN:VEVENT
DTSTART;TZID=America/New_York:20210308T180000
DTEND;TZID=America/New_York:20210308T190000
DTSTAMP:20260420T123801
CREATED:20201123T152331Z
LAST-MODIFIED:20201123T152331Z
UID:4914-1615226400-1615230000@www.fletchernc.org
SUMMARY:Town Council Regular Meeting
DESCRIPTION:Town Council will hold their regular meeting on Monday\, March 8 at 6:00 p.m.  The meeting will be held in Council Chambers at Fletcher Town Hall.  Click on Town Government to access the agenda.
URL:https://www.fletchernc.org/event/town-council-regular-meeting-46/
LOCATION:Fletcher Town Hall\, 300 Old Cane Creek Rd.\, Fletcher\, NC\, 28732\, United States
CATEGORIES:Administration
END:VEVENT
BEGIN:VEVENT
DTSTART;TZID=America/New_York:20210301T180000
DTEND;TZID=America/New_York:20210301T190000
DTSTAMP:20260420T123801
CREATED:20201123T154304Z
LAST-MODIFIED:20201123T154304Z
UID:4939-1614621600-1614625200@www.fletchernc.org
SUMMARY:Town Council Agenda Meeting
DESCRIPTION:Town Council will hold an agenda workshop meeting on Monday\, March 1 at 6:00 p.m.  The meeting will be held in Council Chambers at Fletcher Town Hall.  Click on Town Government to access the agenda.
URL:https://www.fletchernc.org/event/town-council-agenda-meeting-43/
LOCATION:Fletcher Town Hall\, 300 Old Cane Creek Rd.\, Fletcher\, NC\, 28732\, United States
CATEGORIES:Administration
END:VEVENT
BEGIN:VEVENT
DTSTART;TZID=America/New_York:20210208T180000
DTEND;TZID=America/New_York:20210208T190000
DTSTAMP:20260420T123801
CREATED:20201123T152244Z
LAST-MODIFIED:20201123T152244Z
UID:4912-1612807200-1612810800@www.fletchernc.org
SUMMARY:Town Council Regular Meeting
DESCRIPTION:Town Council will hold their regular meeting on Monday\, February 8 at 6:00 p.m.  The meeting will be held in Council Chambers at Fletcher Town Hall.  Click on Town Government to access the agenda.
URL:https://www.fletchernc.org/event/town-council-regular-meeting-45/
LOCATION:Fletcher Town Hall\, 300 Old Cane Creek Rd.\, Fletcher\, NC\, 28732\, United States
CATEGORIES:Administration
END:VEVENT
BEGIN:VEVENT
DTSTART;VALUE=DATE:20210201
DTEND;VALUE=DATE:20210202
DTSTAMP:20260420T123801
CREATED:20201123T154217Z
LAST-MODIFIED:20201123T154217Z
UID:4937-1612137600-1612223999@www.fletchernc.org
SUMMARY:Town Council Agenda Meeting
DESCRIPTION:Town Council will hold an agenda workshop meeting on Monday\, February 1 at 6:00 p.m.  The meeting will be held in Council Chambers at Fletcher Town Hall.  Click on Town Government to access the agenda.
URL:https://www.fletchernc.org/event/town-council-agenda-meeting-42/
LOCATION:Fletcher Town Hall\, 300 Old Cane Creek Rd.\, Fletcher\, NC\, 28732\, United States
CATEGORIES:Administration
END:VEVENT
BEGIN:VEVENT
DTSTART;TZID=America/New_York:20210111T180000
DTEND;TZID=America/New_York:20210111T190000
DTSTAMP:20260420T123801
CREATED:20201123T152155Z
LAST-MODIFIED:20201123T153137Z
UID:4910-1610388000-1610391600@www.fletchernc.org
SUMMARY:Town Council Regular Meeting
DESCRIPTION:Town Council will hold their regular meeting on Monday\, January 11 at 6:00 p.m.  The meeting will be held in Council Chambers at Fletcher Town Hall.  Click on Town Government to access the agenda.
URL:https://www.fletchernc.org/event/town-council-regular-meeting-44/
LOCATION:Fletcher Town Hall\, 300 Old Cane Creek Rd.\, Fletcher\, NC\, 28732\, United States
CATEGORIES:Administration
END:VEVENT
BEGIN:VEVENT
DTSTART;TZID=America/New_York:20210104T180000
DTEND;TZID=America/New_York:20210104T190000
DTSTAMP:20260420T123801
CREATED:20201123T154133Z
LAST-MODIFIED:20201123T154133Z
UID:4935-1609783200-1609786800@www.fletchernc.org
SUMMARY:Town Council Agenda Meeting
DESCRIPTION:Town Council will hold an agenda workshop meeting on Monday\, January 4 at 6:00 p.m.  The meeting will be held in Council Chambers at Fletcher Town Hall.  Click on Town Government to access the agenda.
URL:https://www.fletchernc.org/event/town-council-agenda-meeting-41/
LOCATION:Fletcher Town Hall\, 300 Old Cane Creek Rd.\, Fletcher\, NC\, 28732\, United States
CATEGORIES:Administration
END:VEVENT
BEGIN:VEVENT
DTSTART;TZID=America/New_York:20201214T180000
DTEND;TZID=America/New_York:20201214T200000
DTSTAMP:20260420T123801
CREATED:20181213T160320Z
LAST-MODIFIED:20200804T152215Z
UID:3414-1607968800-1607976000@www.fletchernc.org
SUMMARY:Town Council Regular Meeting
DESCRIPTION:Town Council will hold their regular meeting on Monday\, December 14 at 6:00 p.m.  The meeting will be held in Council Chambers at Fletcher Town Hall.  Click on Town Government to access the agenda.
URL:https://www.fletchernc.org/event/town-council-regular-meeting-43/
LOCATION:Fletcher Town Hall\, 300 Old Cane Creek Rd.\, Fletcher\, NC\, 28732\, United States
CATEGORIES:Administration
END:VEVENT
BEGIN:VEVENT
DTSTART;TZID=America/New_York:20201109T180000
DTEND;TZID=America/New_York:20201109T200000
DTSTAMP:20260420T123801
CREATED:20181213T160232Z
LAST-MODIFIED:20200804T152233Z
UID:3412-1604944800-1604952000@www.fletchernc.org
SUMMARY:Town Council Regular Meeting
DESCRIPTION:Town Council will hold their regular meeting on Monday\, November 9 at 7:00 p.m.  The meeting will be held in Council Chambers at Fletcher Town Hall.  Click on Town Government to access the agenda.
URL:https://www.fletchernc.org/event/town-council-regular-meeting-42/
LOCATION:Fletcher Town Hall\, 300 Old Cane Creek Rd.\, Fletcher\, NC\, 28732\, United States
CATEGORIES:Administration
END:VEVENT
BEGIN:VEVENT
DTSTART;TZID=America/New_York:20201104T180000
DTEND;TZID=America/New_York:20201104T190000
DTSTAMP:20260420T123801
CREATED:20181213T150434Z
LAST-MODIFIED:20200608T124634Z
UID:3387-1604512800-1604516400@www.fletchernc.org
SUMMARY:Town Council Agenda Meeting
DESCRIPTION:Town Council will hold an agenda workshop meeting on Wednesday\, November 4 at 6:00 p.m.  The meeting will be held in Council Chambers at Fletcher Town Hall.  Click on Town Government to access the agenda.
URL:https://www.fletchernc.org/event/town-council-agenda-meeting-38/
LOCATION:Fletcher Town Hall\, 300 Old Cane Creek Rd.\, Fletcher\, NC\, 28732\, United States
CATEGORIES:Administration
END:VEVENT
BEGIN:VEVENT
DTSTART;TZID=America/New_York:20201005T180000
DTEND;TZID=America/New_York:20201005T200000
DTSTAMP:20260420T123801
CREATED:20181213T160142Z
LAST-MODIFIED:20200608T124616Z
UID:3410-1601920800-1601928000@www.fletchernc.org
SUMMARY:Town Council Regular Meeting
DESCRIPTION:Town Council will hold their regular meeting on Monday\, October 5 at 6:00 p.m.  The meeting will be held in Council Chambers at Fletcher Town Hall.  Click on Town Government to access the agenda.
URL:https://www.fletchernc.org/event/town-council-regular-meeting-41/
LOCATION:Fletcher Town Hall\, 300 Old Cane Creek Rd.\, Fletcher\, NC\, 28732\, United States
CATEGORIES:Administration
END:VEVENT
BEGIN:VEVENT
DTSTART;TZID=America/New_York:20200914T180000
DTEND;TZID=America/New_York:20200914T200000
DTSTAMP:20260420T123801
CREATED:20181213T160103Z
LAST-MODIFIED:20200804T152338Z
UID:3408-1600106400-1600113600@www.fletchernc.org
SUMMARY:Town Council Regular Meeting
DESCRIPTION:Town Council will hold their regular meeting on Monday\, September 14 at 6:00 p.m.  The meeting will be held in Council Chambers at Fletcher Town Hall.  Click on Town Government to access the agenda.
URL:https://www.fletchernc.org/event/town-council-regular-meeting-40/
LOCATION:Fletcher Town Hall\, 300 Old Cane Creek Rd.\, Fletcher\, NC\, 28732\, United States
CATEGORIES:Administration
END:VEVENT
BEGIN:VEVENT
DTSTART;TZID=America/New_York:20200810T180000
DTEND;TZID=America/New_York:20200810T200000
DTSTAMP:20260420T123801
CREATED:20181213T160021Z
LAST-MODIFIED:20200804T152355Z
UID:3406-1597082400-1597089600@www.fletchernc.org
SUMMARY:Town Council Regular Meeting
DESCRIPTION:Town Council will hold their regular meeting on Monday\, August 10 at 6:00 p.m.  The meeting will be held in Council Chambers at Fletcher Town Hall.  Click on Town Government to access the agenda.
URL:https://www.fletchernc.org/event/town-council-regular-meeting-39/
LOCATION:Fletcher Town Hall\, 300 Old Cane Creek Rd.\, Fletcher\, NC\, 28732\, United States
CATEGORIES:Administration
END:VEVENT
BEGIN:VEVENT
DTSTART;TZID=America/New_York:20200803T180000
DTEND;TZID=America/New_York:20200803T190000
DTSTAMP:20260420T123801
CREATED:20181213T150153Z
LAST-MODIFIED:20200106T193726Z
UID:3381-1596477600-1596481200@www.fletchernc.org
SUMMARY:Town Council Agenda Meeting
DESCRIPTION:Town Council will hold an agenda workshop meeting on Monday\, August 3 at 6:00 p.m.  The meeting will be held in Council Chambers at Fletcher Town Hall.  Click on Town Government to access the agenda.
URL:https://www.fletchernc.org/event/town-council-agenda-meeting-35/
LOCATION:Fletcher Town Hall\, 300 Old Cane Creek Rd.\, Fletcher\, NC\, 28732\, United States
CATEGORIES:Administration
END:VEVENT
BEGIN:VEVENT
DTSTART;TZID=America/New_York:20200713T190000
DTEND;TZID=America/New_York:20200713T200000
DTSTAMP:20260420T123801
CREATED:20181213T155939Z
LAST-MODIFIED:20200608T124525Z
UID:3404-1594666800-1594670400@www.fletchernc.org
SUMMARY:Town Council Regular Meeting
DESCRIPTION:Town Council will hold their regular meeting on Monday\, July 13 at 6:00 p.m.  The meeting will be held in Council Chambers at Fletcher Town Hall.  Click on Town Government to access the agenda.
URL:https://www.fletchernc.org/event/town-council-regular-meeting-38/
LOCATION:Fletcher Town Hall\, 300 Old Cane Creek Rd.\, Fletcher\, NC\, 28732\, United States
CATEGORIES:Administration
END:VEVENT
BEGIN:VEVENT
DTSTART;TZID=America/New_York:20200608T190000
DTEND;TZID=America/New_York:20200608T200000
DTSTAMP:20260420T123801
CREATED:20181213T155905Z
LAST-MODIFIED:20200608T124505Z
UID:3402-1591642800-1591646400@www.fletchernc.org
SUMMARY:Town Council Regular Meeting
DESCRIPTION:Town Council will hold their regular meeting on Monday\, June 8 at 6:00 p.m.  The meeting will be held in Council Chambers at Fletcher Town Hall.  Click on Town Government to access the agenda.
URL:https://www.fletchernc.org/event/town-council-regular-meeting-37/
LOCATION:Fletcher Town Hall\, 300 Old Cane Creek Rd.\, Fletcher\, NC\, 28732\, United States
CATEGORIES:Administration
END:VEVENT
BEGIN:VEVENT
DTSTART;TZID=America/New_York:20200601T180000
DTEND;TZID=America/New_York:20200601T190000
DTSTAMP:20260420T123801
CREATED:20181213T150024Z
LAST-MODIFIED:20200106T194041Z
UID:3377-1591034400-1591038000@www.fletchernc.org
SUMMARY:Town Council Agenda Meeting
DESCRIPTION:Town Council will hold an agenda workshop meeting on Monday\, June 1 at 6:00 p.m.  The meeting will be held in Council Chambers at Fletcher Town Hall.  Click on Town Government to access the agenda.
URL:https://www.fletchernc.org/event/town-council-agenda-meeting-33/
LOCATION:Fletcher Town Hall\, 300 Old Cane Creek Rd.\, Fletcher\, NC\, 28732\, United States
CATEGORIES:Administration
END:VEVENT
BEGIN:VEVENT
DTSTART;TZID=America/New_York:20200511T180000
DTEND;TZID=America/New_York:20200511T200000
DTSTAMP:20260420T123801
CREATED:20181213T155828Z
LAST-MODIFIED:20200506T164203Z
UID:3400-1589220000-1589227200@www.fletchernc.org
SUMMARY:Town Council Regular Meeting-Virtual through ZOOM
DESCRIPTION:In order to maintain the safety of staff\, councilmembers and residents\, the Council Meeting scheduled for May 11\, 2020 at 6:00 pm will be conducted electronically using Zoom software.  The only individuals that will be located at Town Hall will be the Town Manager\, the Town Clerk\, and Councilman Eddie Henderson.  The Councilmembers will all be participating remotely. \nIf you wish to participate in the meeting: \nJoin the meeting through Zoom on your computer or cellphone \nSimply click on the following link or type it into your browser: \nhttps://us02web.zoom.us/s/85318957590?pwd=NzVnMlBZbUdGVlpHektWUU10UGJCdz09 \nIf you have not used Zoom before\, you are encouraged to download the application from their website at Zoom.us and try it out prior to the meeting.  There is no cost associated with the software or attending the meeting. \nJoin the meeting through audio only via telephone. \nSimply call 1-929-205-6099.  When prompted enter meeting ID: 853-1895-7590 followed by the pound sign (#).  If a password is requested use: 058486  Depending on your carrier\, long distance charges may apply. \n  \nPUBLIC COMMENTS:  If you wish to make a comment for this meeting please email your comment to the Town Clerk at:  c.thompson@fletchernc.org by no later than 2:00 pm on Monday\, May 11\, 2020.  Your comments will be read at the meeting. \nThe Town is making every effort to ensure that the public is able to listen to the meeting while keeping the public safe.  We thank you for your patience and understanding while we try to work through this.
URL:https://www.fletchernc.org/event/town-council-regular-meeting-36/
LOCATION:Fletcher Town Hall\, 300 Old Cane Creek Rd.\, Fletcher\, NC\, 28732\, United States
CATEGORIES:Administration
END:VEVENT
BEGIN:VEVENT
DTSTART;TZID=America/New_York:20200504T180000
DTEND;TZID=America/New_York:20200504T190000
DTSTAMP:20260420T123801
CREATED:20181213T145942Z
LAST-MODIFIED:20200429T132909Z
UID:3375-1588615200-1588618800@www.fletchernc.org
SUMMARY:Town Council Agenda Meeting-Canceled
DESCRIPTION:This meeting has been canceled due to the virus outbreak. The regular meeting will occur electronically on Monday\, May 11.
URL:https://www.fletchernc.org/event/town-council-agenda-meeting-32/
LOCATION:Fletcher Town Hall\, 300 Old Cane Creek Rd.\, Fletcher\, NC\, 28732\, United States
CATEGORIES:Administration
END:VEVENT
BEGIN:VEVENT
DTSTART;TZID=America/New_York:20200413T180000
DTEND;TZID=America/New_York:20200413T200000
DTSTAMP:20260420T123801
CREATED:20181213T155746Z
LAST-MODIFIED:20200409T133431Z
UID:3398-1586800800-1586808000@www.fletchernc.org
SUMMARY:Town Council Regular Meeting-Electronically
DESCRIPTION:In order to maintain the safety of staff\, councilmembers and residents\, the Council Meeting scheduled for April 13\, 2020 at 6:00 pm will be conducted electronically using Zoom software.  The only individuals that will be located at Town Hall will be the Town Manager and the Town Clerk.  The Councilmembers will all be participating remotely. \nIf you wish to participate in the meeting: \nJoin the meeting through Zoom on your computer or cellphone \nSimply click on the following link or type it into your browser: \nhttps://zoom.us/j/655187847 \nIf you have not used Zoom before\, you are encouraged to download the application from their website at Zoom.us and try it out prior to the meeting.  There is no cost associated with the software or attending the meeting. \nJoin the meeting through audio only via telephone. \nSimply call 1-929-205-6099.  When prompted enter meeting ID: 989646683 followed by the pound sign (#).  Depending on your carrier\, long distance charges may apply. \n  \nPUBLIC COMMENTS:  If you wish to make a comment for this meeting please email your comment to the town clerk at c.thompson@fletchernc.org by no later than 2:00 pm on Monday\, April 13\, 2020.  Your comments will be read at the meeting. \n  \nThe town is making every effort to ensure that the public is able to listen to the meeting will keeping the public safe.  This will be a first for all of us and we thank you for your patience and understanding while we try to work through this. \n  \nClick on Town Government to access the agenda.
URL:https://www.fletchernc.org/event/town-council-regular-meeting-35/
LOCATION:Fletcher Town Hall\, 300 Old Cane Creek Rd.\, Fletcher\, NC\, 28732\, United States
CATEGORIES:Administration
END:VEVENT
BEGIN:VEVENT
DTSTART;TZID=America/New_York:20200406T180000
DTEND;TZID=America/New_York:20200406T190000
DTSTAMP:20260420T123801
CREATED:20181213T145735Z
LAST-MODIFIED:20200331T121119Z
UID:3373-1586196000-1586199600@www.fletchernc.org
SUMMARY:Town Council Agenda Meeting-CANCELED
DESCRIPTION:This meeting has been canceled due to the virus outbreak. The regular meeting will occur electronically on Monday\, April 13.
URL:https://www.fletchernc.org/event/town-council-agenda-meeting-31/
LOCATION:Fletcher Town Hall\, 300 Old Cane Creek Rd.\, Fletcher\, NC\, 28732\, United States
CATEGORIES:Administration
END:VEVENT
BEGIN:VEVENT
DTSTART;TZID=America/New_York:20200309T190000
DTEND;TZID=America/New_York:20200309T200000
DTSTAMP:20260420T123801
CREATED:20181213T155708Z
LAST-MODIFIED:20200106T194644Z
UID:3396-1583780400-1583784000@www.fletchernc.org
SUMMARY:Town Council Regular Meeting
DESCRIPTION:Town Council will hold their regular meeting on Monday\, March 9 at 7:00 p.m.  The meeting will be held in Council Chambers at Fletcher Town Hall.  Click on Town Government to access the agenda.
URL:https://www.fletchernc.org/event/town-council-regular-meeting-34/
LOCATION:Fletcher Town Hall\, 300 Old Cane Creek Rd.\, Fletcher\, NC\, 28732\, United States
CATEGORIES:Administration
END:VEVENT
BEGIN:VEVENT
DTSTART;TZID=America/New_York:20200304T180000
DTEND;TZID=America/New_York:20200304T190000
DTSTAMP:20260420T123801
CREATED:20181213T145651Z
LAST-MODIFIED:20200106T194721Z
UID:3371-1583344800-1583348400@www.fletchernc.org
SUMMARY:Town Council Agenda Meeting
DESCRIPTION:Town Council will hold an agenda workshop meeting on Wednesday\, March 4 at 6:00 p.m.  The meeting will be held in Council Chambers at Fletcher Town Hall.  Click on Town Government to access the agenda.
URL:https://www.fletchernc.org/event/town-council-agenda-meeting-30/
LOCATION:Fletcher Town Hall\, 300 Old Cane Creek Rd.\, Fletcher\, NC\, 28732\, United States
CATEGORIES:Administration
END:VEVENT
BEGIN:VEVENT
DTSTART;TZID=America/New_York:20200203T180000
DTEND;TZID=America/New_York:20200203T190000
DTSTAMP:20260420T123801
CREATED:20180109T183126Z
LAST-MODIFIED:20200106T194845Z
UID:2595-1580752800-1580756400@www.fletchernc.org
SUMMARY:Town Council Regular Meeting
DESCRIPTION:Town Council will hold their regular meeting on Monday\, February 3 at 6:00 p.m.  The meeting will be held in Council Chambers at Fletcher Town Hall.  Click on Town Government to access the agenda.
URL:https://www.fletchernc.org/event/town-council-regular-meeting-26/
LOCATION:Fletcher Town Hall\, 300 Old Cane Creek Rd.\, Fletcher\, NC\, 28732\, United States
CATEGORIES:Administration
END:VEVENT
BEGIN:VEVENT
DTSTART;TZID=America/New_York:20200113T163000
DTEND;TZID=America/New_York:20200113T200000
DTSTAMP:20260420T123801
CREATED:20181213T155544Z
LAST-MODIFIED:20200108T172321Z
UID:3392-1578933000-1578945600@www.fletchernc.org
SUMMARY:Town Council Budget Kickoff and Regular Meeting
DESCRIPTION:Town Council will hold their regular meeting beginning with a budget kickoff on Monday\, January 13 at 4:30 p.m.  The meeting will be held in Council Chambers at Fletcher Town Hall.  Click on Town Government to access the agenda.
URL:https://www.fletchernc.org/event/town-council-regular-meeting-32/
LOCATION:Fletcher Town Hall\, 300 Old Cane Creek Rd.\, Fletcher\, NC\, 28732\, United States
CATEGORIES:Administration
END:VEVENT
BEGIN:VEVENT
DTSTART;TZID=America/New_York:20200106T180000
DTEND;TZID=America/New_York:20200106T190000
DTSTAMP:20260420T123801
CREATED:20181213T150515Z
LAST-MODIFIED:20200106T191227Z
UID:3389-1578333600-1578337200@www.fletchernc.org
SUMMARY:Town Council Agenda Meeting
DESCRIPTION:Town Council will hold an agenda workshop meeting on Monday\, January 6 at 6:00 p.m.  The meeting will be held in Council Chambers at Fletcher Town Hall.  Click on Town Government to access the agenda.
URL:https://www.fletchernc.org/event/town-council-agenda-meeting-39/
LOCATION:Fletcher Town Hall\, 300 Old Cane Creek Rd.\, Fletcher\, NC\, 28732\, United States
CATEGORIES:Administration
END:VEVENT
BEGIN:VEVENT
DTSTART;TZID=America/New_York:20190211T190000
DTEND;TZID=America/New_York:20190211T200000
DTSTAMP:20260420T123801
CREATED:20181213T155623Z
LAST-MODIFIED:20181213T155623Z
UID:3394-1549911600-1549915200@www.fletchernc.org
SUMMARY:Town Council Regular Meeting
DESCRIPTION:Town Council will hold their regular meeting on Monday\, February 11 at 7:00 p.m.  The meeting will be held in Council Chambers at Fletcher Town Hall.  Click on Town Government to access the agenda.
URL:https://www.fletchernc.org/event/town-council-regular-meeting-33/
LOCATION:Fletcher Town Hall\, 300 Old Cane Creek Rd.\, Fletcher\, NC\, 28732\, United States
CATEGORIES:Administration
END:VEVENT
BEGIN:VEVENT
DTSTART;TZID=America/New_York:20190204T180000
DTEND;TZID=America/New_York:20190204T190000
DTSTAMP:20260420T123801
CREATED:20181213T145611Z
LAST-MODIFIED:20181213T145611Z
UID:3369-1549303200-1549306800@www.fletchernc.org
SUMMARY:Town Council Agenda Meeting
DESCRIPTION:Town Council will hold an agenda workshop meeting on Monday\, February 4 at 6:00 p.m.  The meeting will be held in Council Chambers at Fletcher Town Hall.  Click on Town Government to access the agenda.
URL:https://www.fletchernc.org/event/town-council-agenda-meeting-29/
LOCATION:Fletcher Town Hall\, 300 Old Cane Creek Rd.\, Fletcher\, NC\, 28732\, United States
CATEGORIES:Administration
END:VEVENT
BEGIN:VEVENT
DTSTART;TZID=America/New_York:20190107T180000
DTEND;TZID=America/New_York:20190107T190000
DTSTAMP:20260420T123801
CREATED:20181213T145527Z
LAST-MODIFIED:20181213T145527Z
UID:3367-1546884000-1546887600@www.fletchernc.org
SUMMARY:Town Council Agenda Meeting
DESCRIPTION:Town Council will hold an agenda workshop meeting on Monday\, January 7 at 6:00 p.m.  The meeting will be held in Council Chambers at Fletcher Town Hall.  Click on Town Government to access the agenda.
URL:https://www.fletchernc.org/event/town-council-agenda-meeting-28/
LOCATION:Fletcher Town Hall\, 300 Old Cane Creek Rd.\, Fletcher\, NC\, 28732\, United States
CATEGORIES:Administration
END:VEVENT
BEGIN:VEVENT
DTSTART;TZID=America/New_York:20181203T180000
DTEND;TZID=America/New_York:20181203T200000
DTSTAMP:20260420T123801
CREATED:20180109T182622Z
LAST-MODIFIED:20180109T182622Z
UID:2581-1543860000-1543867200@www.fletchernc.org
SUMMARY:Town Council Agenda Meeting
DESCRIPTION:Town Council will hold an agenda workshop meeting on Monday\, December 3 at 6:00 p.m.  The meeting will be held in Council Chambers at Fletcher Town Hall.  Click on Town Government to access the agenda.
URL:https://www.fletchernc.org/event/town-council-agenda-meeting-27/
LOCATION:Fletcher Town Hall\, 300 Old Cane Creek Rd.\, Fletcher\, NC\, 28732\, United States
CATEGORIES:Administration
END:VEVENT
END:VCALENDAR