BEGIN:VCALENDAR
VERSION:2.0
PRODID:-//Town of Fletcher, North Carolina - ECPv6.15.17.1//NONSGML v1.0//EN
CALSCALE:GREGORIAN
METHOD:PUBLISH
X-ORIGINAL-URL:https://www.fletchernc.org
X-WR-CALDESC:Events for Town of Fletcher, North Carolina
REFRESH-INTERVAL;VALUE=DURATION:PT1H
X-Robots-Tag:noindex
X-PUBLISHED-TTL:PT1H
BEGIN:VTIMEZONE
TZID:America/New_York
BEGIN:DAYLIGHT
TZOFFSETFROM:-0500
TZOFFSETTO:-0400
TZNAME:EDT
DTSTART:20160313T070000
END:DAYLIGHT
BEGIN:STANDARD
TZOFFSETFROM:-0400
TZOFFSETTO:-0500
TZNAME:EST
DTSTART:20161106T060000
END:STANDARD
BEGIN:DAYLIGHT
TZOFFSETFROM:-0500
TZOFFSETTO:-0400
TZNAME:EDT
DTSTART:20170312T070000
END:DAYLIGHT
BEGIN:STANDARD
TZOFFSETFROM:-0400
TZOFFSETTO:-0500
TZNAME:EST
DTSTART:20171105T060000
END:STANDARD
BEGIN:DAYLIGHT
TZOFFSETFROM:-0500
TZOFFSETTO:-0400
TZNAME:EDT
DTSTART:20180311T070000
END:DAYLIGHT
BEGIN:STANDARD
TZOFFSETFROM:-0400
TZOFFSETTO:-0500
TZNAME:EST
DTSTART:20181104T060000
END:STANDARD
BEGIN:DAYLIGHT
TZOFFSETFROM:-0500
TZOFFSETTO:-0400
TZNAME:EDT
DTSTART:20190310T070000
END:DAYLIGHT
BEGIN:STANDARD
TZOFFSETFROM:-0400
TZOFFSETTO:-0500
TZNAME:EST
DTSTART:20191103T060000
END:STANDARD
END:VTIMEZONE
BEGIN:VEVENT
DTSTART;TZID=America/New_York:20180509T180000
DTEND;TZID=America/New_York:20180509T200000
DTSTAMP:20260421T013645
CREATED:20180109T182108Z
LAST-MODIFIED:20180313T123928Z
UID:2567-1525888800-1525896000@www.fletchernc.org
SUMMARY:Town Council Agenda Meeting
DESCRIPTION:Town Council will hold an agenda workshop meeting on Wednesday\, May 9 at 6:00 p.m.  The meeting will be held in Council Chambers at Fletcher Town Hall.  Click on Town Government to access the agenda. \nThis is a different date due to Town Hall being used for primary voting.
URL:https://www.fletchernc.org/event/town-council-agenda-meeting-20/
LOCATION:Fletcher Town Hall\, 300 Old Cane Creek Rd.\, Fletcher\, NC\, 28732\, United States
CATEGORIES:Administration
END:VEVENT
BEGIN:VEVENT
DTSTART;TZID=America/New_York:20180416T190000
DTEND;TZID=America/New_York:20180416T210000
DTSTAMP:20260421T013645
CREATED:20180109T182854Z
LAST-MODIFIED:20180313T124012Z
UID:2587-1523905200-1523912400@www.fletchernc.org
SUMMARY:Town Council Regular Meeting- Different Date
DESCRIPTION:Town Council will hold their regular meeting on Monday\, April 16 at 7:00 p.m.  The meeting will be held in Council Chambers at Fletcher Town Hall.  Click on Town Government to access the agenda.
URL:https://www.fletchernc.org/event/town-council-regular-meeting-22/
LOCATION:Fletcher Town Hall\, 300 Old Cane Creek Rd.\, Fletcher\, NC\, 28732\, United States
CATEGORIES:Administration
END:VEVENT
BEGIN:VEVENT
DTSTART;TZID=America/New_York:20180409T180000
DTEND;TZID=America/New_York:20180409T200000
DTSTAMP:20260421T013645
CREATED:20180109T182031Z
LAST-MODIFIED:20180313T124058Z
UID:2565-1523296800-1523304000@www.fletchernc.org
SUMMARY:Town Council Agenda Meeting- Different Date
DESCRIPTION:Town Council will hold an agenda workshop meeting on Monday\, April 9 at 6:00 p.m.  The meeting will be held in Council Chambers at Fletcher Town Hall.  Click on Town Government to access the agenda.
URL:https://www.fletchernc.org/event/town-council-agenda-meeting-19/
LOCATION:Fletcher Town Hall\, 300 Old Cane Creek Rd.\, Fletcher\, NC\, 28732\, United States
CATEGORIES:Administration
END:VEVENT
BEGIN:VEVENT
DTSTART;TZID=America/New_York:20180312T190000
DTEND;TZID=America/New_York:20180312T210000
DTSTAMP:20260421T013645
CREATED:20180109T182810Z
LAST-MODIFIED:20180312T143013Z
UID:2585-1520881200-1520888400@www.fletchernc.org
SUMMARY:Town Council Regular Meeting
DESCRIPTION:Town Council will hold their regular meeting on Monday\, March 12 at 7:00 p.m.  The meeting will be held in Council Chambers at Fletcher Town Hall.  Click on Town Government to access the agenda.
URL:https://www.fletchernc.org/event/town-council-regular-meeting-21/
LOCATION:Fletcher Town Hall\, 300 Old Cane Creek Rd.\, Fletcher\, NC\, 28732\, United States
CATEGORIES:Administration
END:VEVENT
BEGIN:VEVENT
DTSTART;TZID=America/New_York:20180305T180000
DTEND;TZID=America/New_York:20180305T200000
DTSTAMP:20260421T013645
CREATED:20180109T181946Z
LAST-MODIFIED:20180109T181946Z
UID:2563-1520272800-1520280000@www.fletchernc.org
SUMMARY:Town Council Agenda Meeting
DESCRIPTION:Town Council will hold an agenda workshop meeting on Monday\, March 5 at 6:00 p.m.  The meeting will be held in Council Chambers at Fletcher Town Hall.  Click on Town Government to access the agenda.
URL:https://www.fletchernc.org/event/town-council-agenda-meeting-18/
LOCATION:Fletcher Town Hall\, 300 Old Cane Creek Rd.\, Fletcher\, NC\, 28732\, United States
CATEGORIES:Administration
END:VEVENT
BEGIN:VEVENT
DTSTART;TZID=America/New_York:20180212T190000
DTEND;TZID=America/New_York:20180212T210000
DTSTAMP:20260421T013645
CREATED:20180109T182733Z
LAST-MODIFIED:20180109T182733Z
UID:2583-1518462000-1518469200@www.fletchernc.org
SUMMARY:Town Council Regular Meeting
DESCRIPTION:Town Council will hold their regular meeting on Monday\, February 12 at 7:00 p.m.  The meeting will be held in Council Chambers at Fletcher Town Hall.  Click on Town Government to access the agenda.
URL:https://www.fletchernc.org/event/town-council-regular-meeting-20/
LOCATION:Fletcher Town Hall\, 300 Old Cane Creek Rd.\, Fletcher\, NC\, 28732\, United States
CATEGORIES:Administration
END:VEVENT
BEGIN:VEVENT
DTSTART;TZID=America/New_York:20180205T180000
DTEND;TZID=America/New_York:20180205T200000
DTSTAMP:20260421T013645
CREATED:20180109T181847Z
LAST-MODIFIED:20180109T181847Z
UID:2561-1517853600-1517860800@www.fletchernc.org
SUMMARY:Town Council Agenda Meeting
DESCRIPTION:Town Council will hold an agenda workshop meeting on Monday\, February 5 at 6:00 p.m.  The meeting will be held in Council Chambers at Fletcher Town Hall.  Click on Town Government to access the agenda.
URL:https://www.fletchernc.org/event/town-council-agenda-meeting-17/
LOCATION:Fletcher Town Hall\, 300 Old Cane Creek Rd.\, Fletcher\, NC\, 28732\, United States
CATEGORIES:Administration
END:VEVENT
BEGIN:VEVENT
DTSTART;TZID=America/New_York:20180108T190000
DTEND;TZID=America/New_York:20180108T210000
DTSTAMP:20260421T013645
CREATED:20180103T162534Z
LAST-MODIFIED:20180103T162534Z
UID:2526-1515438000-1515445200@www.fletchernc.org
SUMMARY:Town Council Regular Meeting
DESCRIPTION:Town Council will hold their regular meeting on Monday\, January 8 at 7:00 p.m.  The meeting will be held in Council Chambers at Fletcher Town Hall.  Click on Town Government to access the agenda.
URL:https://www.fletchernc.org/event/town-council-regular-meeting-19/
LOCATION:Fletcher Town Hall\, 300 Old Cane Creek Rd.\, Fletcher\, NC\, 28732\, United States
CATEGORIES:Administration
END:VEVENT
BEGIN:VEVENT
DTSTART;TZID=America/New_York:20171211T190000
DTEND;TZID=America/New_York:20171211T210000
DTSTAMP:20260421T013645
CREATED:20161206T160259Z
LAST-MODIFIED:20161206T160259Z
UID:1556-1513018800-1513026000@www.fletchernc.org
SUMMARY:Town Council Regular Meeting
DESCRIPTION:Town Council will hold their regular meeting on Monday\, December 11 at 7:00 p.m.  The meeting will be held in Council Chambers at Fletcher Town Hall.  Click on Town Government to access the agenda.
URL:https://www.fletchernc.org/event/town-council-regular-meeting-18/
LOCATION:Fletcher Town Hall\, 300 Old Cane Creek Rd.\, Fletcher\, NC\, 28732\, United States
CATEGORIES:Administration
END:VEVENT
BEGIN:VEVENT
DTSTART;TZID=America/New_York:20171204T180000
DTEND;TZID=America/New_York:20171204T200000
DTSTAMP:20260421T013645
CREATED:20161206T155220Z
LAST-MODIFIED:20161206T155220Z
UID:1532-1512410400-1512417600@www.fletchernc.org
SUMMARY:Town Council Agenda Meeting
DESCRIPTION:Town Council will hold an agenda workshop meeting on Monday\, December 4 at 6:00 p.m.  The meeting will be held in Council Chambers at Fletcher Town Hall.  Click on Town Government to access the agenda.
URL:https://www.fletchernc.org/event/town-council-agenda-meeting-16/
LOCATION:Fletcher Town Hall\, 300 Old Cane Creek Rd.\, Fletcher\, NC\, 28732\, United States
CATEGORIES:Administration
END:VEVENT
BEGIN:VEVENT
DTSTART;TZID=America/New_York:20171113T190000
DTEND;TZID=America/New_York:20171113T210000
DTSTAMP:20260421T013645
CREATED:20161206T160207Z
LAST-MODIFIED:20161206T160207Z
UID:1554-1510599600-1510606800@www.fletchernc.org
SUMMARY:Town Council Regular Meeting
DESCRIPTION:Town Council will hold their regular meeting on Monday\, November 13 at 7:00 p.m.  The meeting will be held in Council Chambers at Fletcher Town Hall.  Click on Town Government to access the agenda.
URL:https://www.fletchernc.org/event/town-council-regular-meeting-17/
LOCATION:Fletcher Town Hall\, 300 Old Cane Creek Rd.\, Fletcher\, NC\, 28732\, United States
CATEGORIES:Administration
END:VEVENT
BEGIN:VEVENT
DTSTART;TZID=America/New_York:20171106T180000
DTEND;TZID=America/New_York:20171106T200000
DTSTAMP:20260421T013645
CREATED:20161206T155117Z
LAST-MODIFIED:20161206T155117Z
UID:1530-1509991200-1509998400@www.fletchernc.org
SUMMARY:Town Council Agenda Meeting
DESCRIPTION:Town Council will hold an agenda workshop meeting on Monday\, November 6 at 6:00 p.m.  The meeting will be held in Council Chambers at Fletcher Town Hall.  Click on Town Government to access the agenda.
URL:https://www.fletchernc.org/event/town-council-agenda-meeting-15/
LOCATION:Fletcher Town Hall\, 300 Old Cane Creek Rd.\, Fletcher\, NC\, 28732\, United States
CATEGORIES:Administration
END:VEVENT
BEGIN:VEVENT
DTSTART;TZID=America/New_York:20171009T190000
DTEND;TZID=America/New_York:20171009T210000
DTSTAMP:20260421T013645
CREATED:20161206T160104Z
LAST-MODIFIED:20161206T160104Z
UID:1552-1507575600-1507582800@www.fletchernc.org
SUMMARY:Town Council Regular Meeting
DESCRIPTION:Town Council will hold their regular meeting on Monday\, October 9 at 7:00 p.m.  The meeting will be held in Council Chambers at Fletcher Town Hall.  Click on Town Government to access the agenda.
URL:https://www.fletchernc.org/event/town-council-regular-meeting-16/
LOCATION:Fletcher Town Hall\, 300 Old Cane Creek Rd.\, Fletcher\, NC\, 28732\, United States
CATEGORIES:Administration
END:VEVENT
BEGIN:VEVENT
DTSTART;TZID=America/New_York:20171002T180000
DTEND;TZID=America/New_York:20171002T200000
DTSTAMP:20260421T013645
CREATED:20161206T154952Z
LAST-MODIFIED:20161206T154952Z
UID:1528-1506967200-1506974400@www.fletchernc.org
SUMMARY:Town Council Agenda Meeting
DESCRIPTION:Town Council will hold an agenda workshop meeting on Monday\, October 2 at 6:00 p.m.  The meeting will be held in Council Chambers at Fletcher Town Hall.  Click on Town Government to access the agenda.
URL:https://www.fletchernc.org/event/town-council-agenda-meeting-14/
LOCATION:Fletcher Town Hall\, 300 Old Cane Creek Rd.\, Fletcher\, NC\, 28732\, United States
CATEGORIES:Administration
END:VEVENT
BEGIN:VEVENT
DTSTART;TZID=America/New_York:20170912T190000
DTEND;TZID=America/New_York:20170912T210000
DTSTAMP:20260421T013645
CREATED:20161206T160013Z
LAST-MODIFIED:20170911T134056Z
UID:1550-1505242800-1505250000@www.fletchernc.org
SUMMARY:Town Council Regular Meeting
DESCRIPTION:Town Council will hold their regular meeting on Tuesday\, September 12 at 7:00 p.m.  The meeting will be held in Council Chambers at Fletcher Town Hall.  Click on Town Government to access the agenda.
URL:https://www.fletchernc.org/event/town-council-regular-meeting-15/
LOCATION:Fletcher Town Hall\, 300 Old Cane Creek Rd.\, Fletcher\, NC\, 28732\, United States
CATEGORIES:Administration
END:VEVENT
BEGIN:VEVENT
DTSTART;TZID=America/New_York:20170905T180000
DTEND;TZID=America/New_York:20170905T200000
DTSTAMP:20260421T013645
CREATED:20161206T154732Z
LAST-MODIFIED:20161206T154732Z
UID:1526-1504634400-1504641600@www.fletchernc.org
SUMMARY:Town Council Agenda Meeting
DESCRIPTION:Town Council will hold an agenda workshop meeting on Tuesday\, September 5 at 6:00 p.m.  The meeting will be held in Council Chambers at Fletcher Town Hall.  Click on Town Government to access the agenda.
URL:https://www.fletchernc.org/event/town-council-agenda-meeting-13/
LOCATION:Fletcher Town Hall\, 300 Old Cane Creek Rd.\, Fletcher\, NC\, 28732\, United States
CATEGORIES:Administration
END:VEVENT
BEGIN:VEVENT
DTSTART;TZID=America/New_York:20170814T190000
DTEND;TZID=America/New_York:20170814T210000
DTSTAMP:20260421T013645
CREATED:20161206T155916Z
LAST-MODIFIED:20161206T155916Z
UID:1548-1502737200-1502744400@www.fletchernc.org
SUMMARY:Town Council Regular Meeting
DESCRIPTION:Town Council will hold their regular meeting on Monday\, August 14 at 7:00 p.m.  The meeting will be held in Council Chambers at Fletcher Town Hall.  Click on Town Government to access the agenda.
URL:https://www.fletchernc.org/event/town-council-regular-meeting-14/
LOCATION:Fletcher Town Hall\, 300 Old Cane Creek Rd.\, Fletcher\, NC\, 28732\, United States
CATEGORIES:Administration
END:VEVENT
BEGIN:VEVENT
DTSTART;TZID=America/New_York:20170807T180000
DTEND;TZID=America/New_York:20170807T200000
DTSTAMP:20260421T013645
CREATED:20161206T154639Z
LAST-MODIFIED:20161206T154639Z
UID:1524-1502128800-1502136000@www.fletchernc.org
SUMMARY:Town Council Agenda Meeting
DESCRIPTION:Town Council will hold an agenda workshop meeting on Monday\, August 7 at 6:00 p.m.  The meeting will be held in Council Chambers at Fletcher Town Hall.  Click on Town Government to access the agenda.
URL:https://www.fletchernc.org/event/town-council-agenda-meeting-12/
LOCATION:Fletcher Town Hall\, 300 Old Cane Creek Rd.\, Fletcher\, NC\, 28732\, United States
CATEGORIES:Administration
END:VEVENT
BEGIN:VEVENT
DTSTART;TZID=America/New_York:20170710T190000
DTEND;TZID=America/New_York:20170710T210000
DTSTAMP:20260421T013645
CREATED:20161206T155816Z
LAST-MODIFIED:20161206T155816Z
UID:1546-1499713200-1499720400@www.fletchernc.org
SUMMARY:Town Council Regular Meeting
DESCRIPTION:Town Council will hold their regular meeting on Monday\, July 10 at 7:00 p.m.  The meeting will be held in Council Chambers at Fletcher Town Hall.  Click on Town Government to access the agenda.
URL:https://www.fletchernc.org/event/town-council-regular-meeting-13/
LOCATION:Fletcher Town Hall\, 300 Old Cane Creek Rd.\, Fletcher\, NC\, 28732\, United States
CATEGORIES:Administration
END:VEVENT
BEGIN:VEVENT
DTSTART;TZID=America/New_York:20170703T180000
DTEND;TZID=America/New_York:20170703T200000
DTSTAMP:20260421T013645
CREATED:20161206T154551Z
LAST-MODIFIED:20161206T154551Z
UID:1522-1499104800-1499112000@www.fletchernc.org
SUMMARY:Town Council Agenda Meeting
DESCRIPTION:Town Council will hold an agenda workshop meeting on Monday\, July 3 at 6:00 p.m.  The meeting will be held in Council Chambers at Fletcher Town Hall.  Click on Town Government to access the agenda.
URL:https://www.fletchernc.org/event/town-council-agenda-meeting-11/
LOCATION:Fletcher Town Hall\, 300 Old Cane Creek Rd.\, Fletcher\, NC\, 28732\, United States
CATEGORIES:Administration
END:VEVENT
BEGIN:VEVENT
DTSTART;TZID=America/New_York:20170614T163000
DTEND;TZID=America/New_York:20170614T183000
DTSTAMP:20260421T013645
CREATED:20170525T175634Z
LAST-MODIFIED:20170525T175634Z
UID:2014-1497457800-1497465000@www.fletchernc.org
SUMMARY:Drop in meeting for Highway 25 Corridor Improvements
DESCRIPTION:Drop In Meeting for Highway 25 Corridor Improvements \n Following a 2014 study to determine feasibility for streetscape enhancements on the Highway 25 Corridor\, the Town of Fletcher was awarded grant funding from NCDOT to construct improvements to sidewalks\, landscaping\, and street lighting\, with some additional traffic calming measures. The project scope will be along Hendersonville Road (Hwy 25) from Cane Creek Road to Howard Gap Road. The Town will be hosting a public input meeting on Wednesday\, June 14\, 2017\, at Fletcher Town Hall (300 Old Cane Creek Road) in the large community room on the third floor. The meeting will be an informal “drop in” style meeting from 4:30-6:30 PM. You can come by anytime during this time window to view the design plans. Representatives from our consulting engineering firm\, McGill Associates\, as well as Town Staff\, will be present to answer questions and receive any comments you may have regarding the project\, which will hopefully begin construction later this year. Any questions regarding the project may be directed to Eric Rufa\, Planning Director\, at 687-3985.
URL:https://www.fletchernc.org/event/drop-meeting-highway-25-corridor-improvements/
LOCATION:Fletcher Town Hall\, 300 Old Cane Creek Rd.\, Fletcher\, NC\, 28732\, United States
CATEGORIES:Administration
END:VEVENT
BEGIN:VEVENT
DTSTART;TZID=America/New_York:20170612T190000
DTEND;TZID=America/New_York:20170612T210000
DTSTAMP:20260421T013645
CREATED:20161206T155731Z
LAST-MODIFIED:20161206T155731Z
UID:1544-1497294000-1497301200@www.fletchernc.org
SUMMARY:Town Council Regular Meeting
DESCRIPTION:Town Council will hold their regular meeting on Monday\, June 12 at 7:00 p.m.  The meeting will be held in Council Chambers at Fletcher Town Hall.  Click on Town Government to access the agenda.
URL:https://www.fletchernc.org/event/town-council-regular-meeting-12/
LOCATION:Fletcher Town Hall\, 300 Old Cane Creek Rd.\, Fletcher\, NC\, 28732\, United States
CATEGORIES:Administration
END:VEVENT
BEGIN:VEVENT
DTSTART;TZID=America/New_York:20170605T180000
DTEND;TZID=America/New_York:20170605T200000
DTSTAMP:20260421T013645
CREATED:20161206T154455Z
LAST-MODIFIED:20161206T154455Z
UID:1520-1496685600-1496692800@www.fletchernc.org
SUMMARY:Town Council Agenda Meeting
DESCRIPTION:Town Council will hold an agenda workshop meeting on Monday\, June 5 at 6:00 p.m.  The meeting will be held in Council Chambers at Fletcher Town Hall.  Click on Town Government to access the agenda.
URL:https://www.fletchernc.org/event/town-council-agenda-meeting-10/
LOCATION:Fletcher Town Hall\, 300 Old Cane Creek Rd.\, Fletcher\, NC\, 28732\, United States
CATEGORIES:Administration
END:VEVENT
BEGIN:VEVENT
DTSTART;TZID=America/New_York:20170508T190000
DTEND;TZID=America/New_York:20170508T210000
DTSTAMP:20260421T013645
CREATED:20161206T155635Z
LAST-MODIFIED:20161206T155635Z
UID:1542-1494270000-1494277200@www.fletchernc.org
SUMMARY:Town Council Regular Meeting
DESCRIPTION:Town Council will hold their regular meeting on Monday\, May 8 at 7:00 p.m.  The meeting will be held in Council Chambers at Fletcher Town Hall.  Click on Town Government to access the agenda.
URL:https://www.fletchernc.org/event/town-council-regular-meeting-11/
LOCATION:Fletcher Town Hall\, 300 Old Cane Creek Rd.\, Fletcher\, NC\, 28732\, United States
CATEGORIES:Administration
END:VEVENT
BEGIN:VEVENT
DTSTART;TZID=America/New_York:20170501T180000
DTEND;TZID=America/New_York:20170501T200000
DTSTAMP:20260421T013645
CREATED:20161206T154408Z
LAST-MODIFIED:20161206T154408Z
UID:1518-1493661600-1493668800@www.fletchernc.org
SUMMARY:Town Council Agenda Meeting
DESCRIPTION:Town Council will hold an agenda workshop meeting on Monday\, May 1 at 6:00 p.m.  The meeting will be held in Council Chambers at Fletcher Town Hall.  Click on Town Government to access the agenda.
URL:https://www.fletchernc.org/event/town-council-agenda-meeting-9/
LOCATION:Fletcher Town Hall\, 300 Old Cane Creek Rd.\, Fletcher\, NC\, 28732\, United States
CATEGORIES:Administration
END:VEVENT
BEGIN:VEVENT
DTSTART;TZID=America/New_York:20170410T190000
DTEND;TZID=America/New_York:20170410T210000
DTSTAMP:20260421T013645
CREATED:20161206T155555Z
LAST-MODIFIED:20161206T155555Z
UID:1540-1491850800-1491858000@www.fletchernc.org
SUMMARY:Town Council Regular Meeting
DESCRIPTION:Town Council will hold their regular meeting on Monday\, April 10 at 7:00 p.m.  The meeting will be held in Council Chambers at Fletcher Town Hall.  Click on Town Government to access the agenda.
URL:https://www.fletchernc.org/event/town-council-regular-meeting-10/
LOCATION:Fletcher Town Hall\, 300 Old Cane Creek Rd.\, Fletcher\, NC\, 28732\, United States
CATEGORIES:Administration
END:VEVENT
BEGIN:VEVENT
DTSTART;TZID=America/New_York:20170408T090000
DTEND;TZID=America/New_York:20170408T120000
DTSTAMP:20260421T013645
CREATED:20170324T123931Z
LAST-MODIFIED:20170324T123931Z
UID:1888-1491642000-1491652800@www.fletchernc.org
SUMMARY:Pill Drop & Document Shredding Event
DESCRIPTION:The Town of Fletcher and the Fletcher Police Department are hosting a pill take-back event called Operation Pill Drop as well as a Spring document shredding event. \nClick here for the flyer regarding this event.
URL:https://www.fletchernc.org/event/pill-drop-document-shredding-event/
LOCATION:Fletcher Town Hall\, 300 Old Cane Creek Rd.\, Fletcher\, NC\, 28732\, United States
CATEGORIES:Administration
END:VEVENT
BEGIN:VEVENT
DTSTART;TZID=America/New_York:20170403T180000
DTEND;TZID=America/New_York:20170403T200000
DTSTAMP:20260421T013645
CREATED:20161206T154313Z
LAST-MODIFIED:20161206T154313Z
UID:1516-1491242400-1491249600@www.fletchernc.org
SUMMARY:Town Council Agenda Meeting
DESCRIPTION:Town Council will hold an agenda workshop meeting on Monday\, April 3 at 6:00 p.m.  The meeting will be held in Council Chambers at Fletcher Town Hall.  Click on Town Government to access the agenda.
URL:https://www.fletchernc.org/event/town-council-agenda-meeting-8/
LOCATION:Fletcher Town Hall\, 300 Old Cane Creek Rd.\, Fletcher\, NC\, 28732\, United States
CATEGORIES:Administration
END:VEVENT
BEGIN:VEVENT
DTSTART;TZID=America/New_York:20170313T190000
DTEND;TZID=America/New_York:20170313T210000
DTSTAMP:20260421T013645
CREATED:20161206T155456Z
LAST-MODIFIED:20161206T155456Z
UID:1538-1489431600-1489438800@www.fletchernc.org
SUMMARY:Town Council Regular Meeting
DESCRIPTION:Town Council will hold their regular meeting on Monday\, March 13 at 7:00 p.m.  The meeting will be held in Council Chambers at Fletcher Town Hall.  Click on Town Government to access the agenda.
URL:https://www.fletchernc.org/event/town-council-regular-meeting-9/
LOCATION:Fletcher Town Hall\, 300 Old Cane Creek Rd.\, Fletcher\, NC\, 28732\, United States
CATEGORIES:Administration
END:VEVENT
BEGIN:VEVENT
DTSTART;TZID=America/New_York:20170306T180000
DTEND;TZID=America/New_York:20170306T200000
DTSTAMP:20260421T013645
CREATED:20161206T154207Z
LAST-MODIFIED:20161206T154207Z
UID:1514-1488823200-1488830400@www.fletchernc.org
SUMMARY:Town Council Agenda Meeting
DESCRIPTION:Town Council will hold an agenda workshop meeting on Monday\, March 6 at 6:00 p.m.  The meeting will be held in Council Chambers at Fletcher Town Hall.  Click on Town Government to access the agenda.
URL:https://www.fletchernc.org/event/town-council-agenda-meeting-7/
LOCATION:Fletcher Town Hall\, 300 Old Cane Creek Rd.\, Fletcher\, NC\, 28732\, United States
CATEGORIES:Administration
END:VEVENT
END:VCALENDAR